BEGIN:VCALENDAR
VERSION:2.0
PRODID:-//Église de Fougy - ECPv6.15.20//NONSGML v1.0//EN
CALSCALE:GREGORIAN
METHOD:PUBLISH
X-WR-CALNAME:Église de Fougy
X-ORIGINAL-URL:https://eglisedefougy.fr
X-WR-CALDESC:Évènements pour Église de Fougy
REFRESH-INTERVAL;VALUE=DURATION:PT1H
X-Robots-Tag:noindex
X-PUBLISHED-TTL:PT1H
BEGIN:VTIMEZONE
TZID:UTC
BEGIN:STANDARD
TZOFFSETFROM:+0000
TZOFFSETTO:+0000
TZNAME:UTC
DTSTART:20250101T000000
END:STANDARD
END:VTIMEZONE
BEGIN:VEVENT
DTSTART;TZID=UTC:20260530T160000
DTEND;TZID=UTC:20260530T180000
DTSTAMP:20260424T123017
CREATED:20260420T123551Z
LAST-MODIFIED:20260420T140746Z
UID:7227-1780156800-1780164000@eglisedefougy.fr
SUMMARY:Pierre HANTAÏ\, claveciniste
DESCRIPTION:Accueil / Évènements\n\n\n\n\n\n\n\n\n\n\n\n\n\n\n\n\n\n\n\n\n\n\n\nPierre HANTAÏ\, claveciniste\, rendra hommage à Yvonne Gide\, lors d’un récital autour de Bach et ses contemporains\, le Samedi 30 Mai 2026\, à 16h00 à l’Église de Fougy. \n\n\n\nBiographie de Pierre HANTAÏ\n\n\n\nPierre Hantaï est né en 1964 dans une famille à l’art occupait la première place. Dans son enfance\, ilse passionne pour la peinture mais c’est la rencontre avec la musique de Bach qui lui indique la voiequi sera la sienne. Les enregistrements de Gustav Leonhardt au clavecin le marquent alorsprofondément. Il fait ses premiers pas en musique vers l’âge de 10 ans : vivant à la campagne\, ilétudie tout d’abord seul\, sur une petite épinette\, le répertoire qui le passionne et pratique la musiquede chambre avec ses frères\, Marc et Jérôme. Il prend ensuite des leçons auprès du clavecinisteaméricain Arthur Haas puis de Gustav Leonhardt qui l’invite pendant deux ans à bénéficier de sonenseignement dans sa maison d’Amsterdam.Ainsi\, Pierre Hantai ne franchira jamais les portes d’un conservatoire\, alternant travail solitaire etconseils de grands maîtres. Très jeune\, il joue avec les personnalités marquantes du petit monde de lamusique ancienne\, les frères Kuijken\, Gustav Leonhardt\, Philippe Herreweghe\, Jordi Savall. Aumême moment\, autour de ses frères et d’amis fidèles\, Hugo Reyne\, Sébastien Marq\, Marc Minkowski\,François Fernandez\, Ageet Zweistra ou Philippe Pierlot\, il fonde plusieurs groupes de musiqued’ensemble : Le « Lous Landes Consort »\, qui sera Premier prix du concours de musique de chambrede Bruges\, ou « le Concert Français »\, première étape de ce qui deviendra un orchestre de chambrequelques années plus tard.Il se fait connaître d’un large public en 1993 par son enregistrement des Variations Goldberg deJ.S.Bach qui reçoit de très nombreuses distinctions\, dont un Gramophone Award\, et qui l’amène àêtre invité partout dans le monde. Il a beaucoup joué et enregistré le répertoire élisabéthain (Bull\,Byrd\, Farnaby…)\, Bach\, Couperin et mène un travail au long cours sur l’œuvre de D.Scarlatti dont ilest reconnu aujourd’hui comme l’un des interprètes majeurs. Il aime retrouver sur scène ses amismusiciens\, Jordi Savall\, le flûtiste Hugo Reyne\, la violoniste Amandine Beyer\, ses frères et d’autresclavecinistes avec lesquels il collabore fréquemment\, Skip Sempé\, Olivier Fortin\, Maude Gratton etAapo Häkkinen.S’il est invité à diriger divers orchestres de chambre et à enseigner lors de master-classes dans denombreux pays\, c’est en soliste qu’il joue le plus souvent. L’année qui vient le verra se produire enFrance\, Espagne\, Portugal\, Italie\, Hollande\, Grande-Bretagne\, Estonie\, Japon\, Chine\, Taiwan…Il résiste autant qu’il le peut aux dérives du monde musical actuel\, fait de communication stérile. Ilse méfie du mot d’interprète et veut rester au service des compositeurs\, son seul travail consistant àéclairer leurs œuvres. Il lui semble que la façon dont la musique est enseignée aujourd’hui\, avecl’échéance des examens et la planification des concours internationaux\, a conduit à figer nos pratiquesjusqu’à la salle de concert où tout est toujours prévu de longs mois à l’avance. Pour lui\, cela s’opposeà l’esprit même de la musique.Lorsqu’il monte sur scène\, il tente de renouer avec ce qui a de tout temps caractérisé la transmissiondans les cultures musicales mais que nous avons peu à peu perdu dans le domaine de la musique dite« classique » : l’esprit de communion\, la joie de l’inattendu et de la découverte\, qu’il veut retrouvertant pour le public que pour lui-même. \n\n\n\nDiscographie de Pierre Hantaï\n\n\n\nSes disques réalisés pour différentes compagnies (Adda\, Astrée-Auvidis\, Opus 111\, Virgin\, Mirare) ont été distingués par de nombreuses récompenses\, comme le Gramophone Award\, le Grand Prix du Disque\, le Prix de l’Académie Charles Cros\, le Diapason d’or de l’année…voir les 19 disques disponibles chez MIRARE  \n\n\n\n\n\n\n\n\n\n\n\nPlateforme de paiement 100% sécurisée\n\n\n\nToutes les informations bancaires pour traiter ce paiement sont totalement sécurisées. Grâce au cryptage SSL de vos données bancaires\, vous êtes assurés de la fiabilité de vos transactions sur HelloAsso.Des Questions? / Retrouver notre rubrique FAQs Billetterie
URL:https://eglisedefougy.fr/evenement/pierre-hantai-claveciniste/
LOCATION:Église de Fougy\, Le Bourg Saint léonard\, Gouffern-en-Auge\, Orne\, 61310\, France
CATEGORIES:Concert
ATTACH;FMTTYPE=image/jpeg:https://eglisedefougy.fr/wp-content/uploads/2026/04/pierre-antai.jpg
ORGANIZER;CN="Assossiation Sauver l'%C3%A9glise de Fougy":MAILTO:sauverfougy@gmail.com
END:VEVENT
BEGIN:VEVENT
DTSTART;TZID=UTC:20260829T160000
DTEND;TZID=UTC:20260829T200000
DTSTAMP:20260424T123017
CREATED:20260420T141923Z
LAST-MODIFIED:20260420T144423Z
UID:7254-1788019200-1788033600@eglisedefougy.fr
SUMMARY:Le Madrigal de Condé
DESCRIPTION:Traditionnelle fête de la saint Gilles \n\n\n\nAccueil / Évènements\n\n\n\n\n\n\n\n\n\n\n\n\n\n\n\n\n\n\n\nFabrice Pénin et le Madrigal de Condé\, donneront un récital et accompagneront la liturgie lors de la messe donnée le jour de la Saint Gilles\, le 29 août 2026 à 16h00\, à l’Église de Fougy. (Concert 16h – Messe 18h) \n\n\n\nPROGRAMME:PERGOLESE Stabat MaterBACH Une Cantate \n\n\n\nBiographie de Fabrice Pénin\n\n\n\nOriginaire de l’Orne\, Fabrice Pénin intègre le Conservatoire de Musique de Caen où il étudie l’orgue\, l’écriture et la direction de Choeur\, le chant et la basse continue. Après l’obtention d’un prix d’orgue dans la classe de Lynne Davis Firmin Didot puis d’Errant Leprado il s’est dirigé vers la direction de Choeur d’abord à Caen dans la classe de Valérie Fayet puis dans celle de Régine Théodoresco à Rennes où il obtient le diplôme d’études musicales de cette discipline à l’unanimité. Il obtient son DE de direction d’ensembles vocaux en 2016. \n\n\n\nIl a étudié le chant tout d’abord avec Jacques Bona\, Katalyn Varkonyi\, Norma Lopez et Anne Wartmann et obtient son D.E.M. de chant. En 2010\, il crée l’ensemble vocal « le Madrigal de Condé-sur-Noireau ». Assistant à la maîtrise de garçons du Conservatoire pour l’année scolaire 2013/2014\, il est sollicité de nouveau comme assistant pour l’opéra « Brundibar » donné au théâtre de Caen en mai 2015. Depuis 2014\, le F.A.R. ( agence régionale musicale de Normandie) le fait intervenir auprès des choeurs pour des formations sur mesure ainsi que pour des projets ponctuels ( culture-justice au centre pénitentiaire de Caen). La fédération à Coeur Joie lui demande en novembre 2015 de prendre part au week-end « Sing’n’move » réunissant 100 jeunes. Il enseigne le chant dans deux écoles de musique de la région caennaise. En septembre 2018\, il reprend la direction de l’ensemble vocal « EsperaCanto ». \n\n\n\nLe Madrigal de Condé\n\n\n\nJeune et prometteur ensemble vocal\, le Madrigal de Condé est composé d’une dizaine de chanteurs. Il s’adonne avec rigueur et passion au chant polyphonique\, a capella le plus souvent. \n\n\n\nL’ensemble est directement issu des Petits Chanteurs de Notre-Dame de la Joie de Condé-sur-Noireau: c’est Fabrice Pénin\, ancien chef des Petits Chanteurs qui décidait en 2009 de continuer l’aventure musicale avec les plus grands petits chanteurs. Désireux de monter un répertoire adapté à une formation plus réduite (2 ou 3 chanteurs par voix)\, le groupe nouvellement formé donne plusieurs concerts à Condé-sur-Noireau et aux alentours et acquiert le soutien du public.  \n\n\n\n\n​Ainsi\, le groupe prend en 2010 le nom  » Le Madrigal de Condé « \, ayant la volonté de s’ancrer dans ce territoire qui a vu grandir les chanteurs tout en proposant des prestations de haut niveau. L’ensemble est aujourd’hui constitué d’une part d’anciens Petits Chanteurs et d’autre part de chanteurs venant de Caen et sa région. Tous passionnés de musique vocale\, ils travaillent leur voix individuellement dans les conservatoires ou en cours particuliers. \n\n\n\n​L’ensemble participe à des concerts sur diverses thématiques : « aimez ces airs\, aimez ces airs… » en 2015 en collaboration avec Fabrice di Falcao et Barbra Hendricks ou plus récemment en soutien aux migrants du Calvados et à l’association Ondine avec des musiciens professionnels et l’ensemble Alma Musica. \n\n\n\n\nLe répertoire\n\n\n\nSi le Madrigal de Condé s’adonne principalement à l’interprétation du répertoire sacré\, au travers de motets\, d’oratorios\, de messes et de cantiques\, il propose d’autre part des oeuvres plus profanes\, telles que les Madrigaux de Monteverdi ou les traditionnels de Noël. Depuis sa création\, l’ensemble emprunte des oeuvres issues de toutes les périodes musicales\, de la Renaissance à l’époque contemporaine. \n\n\n\n\n\n\n\n\n\nPlateforme de paiement 100% sécurisée\n\n\n\nToutes les informations bancaires pour traiter ce paiement sont totalement sécurisées. Grâce au cryptage SSL de vos données bancaires\, vous êtes assurés de la fiabilité de vos transactions sur HelloAsso.Des Questions? / Retrouver notre rubrique FAQs Billetterie
URL:https://eglisedefougy.fr/evenement/le-madrigal-de-conde/
LOCATION:Église de Fougy\, Le Bourg Saint léonard\, Gouffern-en-Auge\, Orne\, 61310\, France
CATEGORIES:Concert,Messe
ATTACH;FMTTYPE=image/png:https://eglisedefougy.fr/wp-content/uploads/2024/08/Le-Madrigal-de-Conde-en-Trio-Eglise-de-Fougy.png
ORGANIZER;CN="Assossiation Sauver l'%C3%A9glise de Fougy":MAILTO:sauverfougy@gmail.com
END:VEVENT
BEGIN:VEVENT
DTSTART;TZID=UTC:20261002T000000
DTEND;TZID=UTC:20261003T235959
DTSTAMP:20260424T123017
CREATED:20260420T143402Z
LAST-MODIFIED:20260420T144032Z
UID:7257-1790899200-1791071999@eglisedefougy.fr
SUMMARY:Grande Fête du Baroque
DESCRIPTION:Accueil / Évènements\n\n\n\n\n\n\n\n\n\n\n\n\n\n\n\n\n\n\n\navec carte blanche à :Elisabeth JOYE – Benjamin ALARD – Pierre GALLON – François GUERRIER – Christophe COINClavecin \n\n\n\nGrande Fête du Baroque – hommage à Yvonne Gide\n\n\n\n \n\n\n\n\n\n\n\n\n\nPlateforme de paiement 100% sécurisée\n\n\n\nToutes les informations bancaires pour traiter ce paiement sont totalement sécurisées. Grâce au cryptage SSL de vos données bancaires\, vous êtes assurés de la fiabilité de vos transactions sur HelloAsso.Des Questions? / Retrouver notre rubrique FAQs Billetterie
URL:https://eglisedefougy.fr/evenement/grande-fete-du-baroque/
LOCATION:Église de Fougy\, Le Bourg Saint léonard\, Gouffern-en-Auge\, Orne\, 61310\, France
CATEGORIES:Concert
ATTACH;FMTTYPE=image/jpeg:https://eglisedefougy.fr/wp-content/uploads/2024/04/elisabeth-joye-concert-eglise-fougy.jpg
ORGANIZER;CN="Assossiation Sauver l'%C3%A9glise de Fougy":MAILTO:sauverfougy@gmail.com
END:VEVENT
END:VCALENDAR